BEGIN:VCALENDAR
VERSION:2.0
PRODID:-//ChamberMaster//Event Calendar 2.0//EN
METHOD:PUBLISH
X-PUBLISHED-TTL:P1H
REFRESH-INTERVAL:P1H
CALSCALE:GREGORIAN
BEGIN:VTIMEZONE
TZID:America/New_York
BEGIN:DAYLIGHT
RRULE:FREQ=YEARLY;BYMONTH=3;BYDAY=2SU
DTSTART:20070101T000000
TZOFFSETFROM:-0500
TZOFFSETTO:-0400
TZNAME:Eastern Daylight Time
END:DAYLIGHT
BEGIN:STANDARD
RRULE:FREQ=YEARLY;BYMONTH=11;BYDAY=1SU
DTSTART:20070101T000000
TZOFFSETFROM:-0400
TZOFFSETTO:-0500
TZNAME:Eastern Standard Time
END:STANDARD
END:VTIMEZONE
BEGIN:VEVENT
DTSTART;TZID=America/New_York:20260409T080000
DTEND;TZID=America/New_York:20260529T170000
X-MICROSOFT-CDO-ALLDAYEVENT:FALSE
SUMMARY:Run for Repairs 8K\, 5K and one mile fun run
DESCRIPTION:Run for Repairs for Housing Partnerships\n8K\, 5K\, and a one-mile fun run\nA Colonial Road Runners Grand Prix Event benefiting Housing Partnerships (8K race is the CRR Grand Prix event)\n\n\nSaturday\, May 30\, 2026 | Lois Hornsby Middle School (race starts and finishes at the start of the asphalt recreation trail from the school\, which enters Freedom Park in a half mile\, and directly connects to the main park trail)\n\nEvery step you take fixes a neighbor's home in need. Lace up\, and show up for the people next door. Run for Repairs is a charity run/walk featuring an 8K\, 5K\, and a one-mile fun run where your miles mean real impact — patching roofs\, fixing floors\, and keeping families safe\, warm\, and dry in their homes.\n\nFinisher medals for all participants and awards for top finishers. T-shirts for all pre-registered runners/walkers for 8K\, 5K\, and One Mile Fun Run.  Day-of registration t-shirts are not guaranteed.  \n\n This event is rain or shine.\n\nStart time will be 8:00 am for the 8K and 5K\, followed by the one-mile fun run at 8:30 am (ish). Times are subject to change. \n\nFor 8K\, awards are to the top 3 men and women overall\, top 3 men and women race walkers\, and top 3 in five-year age groups from 14-and-under to 75-and-over.\n\nFor the 5K\, race awards to the top 5 overall men and women.\n\nNo awards for one mile fun run. A finishing medal will be given.\n\nRace starts and finishes at the start of the asphalt recreation trail from the school\, which enters Freedom Park in a half mile\, and directly connects to the main park trail.
X-ALT-DESC;FMTTYPE=text/html:Run for Repairs for Housing Partnerships\n8K\, 5K\, and a one-mile fun run\nA Colonial Road Runners Grand Prix Event benefiting Housing Partnerships (8K race is the CRR Grand Prix event)\n\n\nSaturday\, May 30\, 2026 | Lois Hornsby Middle School (race starts and finishes at the start of the asphalt recreation trail from the school\, which enters Freedom Park in a half mile\, and directly connects to the main park trail)\n\nEvery step you take fixes a neighbor's home in need. Lace up\, and show up for the people next door. Run for Repairs is a charity run/walk featuring an 8K\, 5K\, and a one-mile fun run where your miles mean real impact — patching roofs\, fixing floors\, and keeping families safe\, warm\, and dry in their homes.\n\nFinisher medals for all participants and awards for top finishers. T-shirts for all pre-registered runners/walkers for 8K\, 5K\, and One Mile Fun Run.  Day-of registration t-shirts are not guaranteed.  \n\n This event is rain or shine.\n\nStart time will be 8:00 am for the 8K and 5K\, followed by the one-mile fun run at 8:30 am (ish). Times are subject to change. \n\nFor 8K\, awards are to the top 3 men and women overall\, top 3 men and women race walkers\, and top 3 in five-year age groups from 14-and-under to 75-and-over.\n\nFor the 5K\, race awards to the top 5 overall men and women.\n\nNo awards for one mile fun run. A finishing medal will be given.\n\nRace starts and finishes at the start of the asphalt recreation trail from the school\, which enters Freedom Park in a half mile\, and directly connects to the main park trail.
LOCATION:850 Jolly Pond Road Williamsburg VA 23188
UID:e.3250.1440321
SEQUENCE:3
DTSTAMP:20260422T090005Z
URL:https://connect.businesswilliamsburg.com/communitycalendar/Details/run-for-repairs-8k-5k-and-one-mile-fun-run-1705010?sourceTypeId=Hub
END:VEVENT
END:VCALENDAR
